BEGIN:VCALENDAR
VERSION:2.0
PRODID:icalendar-ruby
CALSCALE:GREGORIAN
METHOD:PUBLISH
BEGIN:VEVENT
DTSTAMP:20260420T112911Z
UID:50-1065941@calhounchurchofchrist.com
DTSTART:20261028T230000Z
DTEND:20261029T000000Z
CLASS:PUBLIC
CREATED:20260420T070406
DESCRIPTION:
LAST-MODIFIED:20260420T070406
LOCATION:
SUMMARY:Wednesday Evening Bible Study
URL;VALUE=URI:https://calhounchurchofchrist.com/events/wednesday-evening-bi
 ble-study/2026-10-28
ATTACH;FILENAME=bible-7092020_1280.jpg;FMTTYPE=image/jpeg:https://dq5pwpg1q
 8ru0.cloudfront.net/2025/08/07/13/49/48/8b431003-ee06-45ae-8753-818eb896ea
 35/bible-7092020_1280.jpg
END:VEVENT
END:VCALENDAR
